BEGIN:VCALENDAR
VERSION:2.0
PRODID:-//Diocese of Leeds - ECPv6.15.20//NONSGML v1.0//EN
CALSCALE:GREGORIAN
METHOD:PUBLISH
X-ORIGINAL-URL:https://www.dioceseofleeds.org.uk/youth
X-WR-CALDESC:Events for Diocese of Leeds
REFRESH-INTERVAL;VALUE=DURATION:PT1H
X-Robots-Tag:noindex
X-PUBLISHED-TTL:PT1H
BEGIN:VTIMEZONE
TZID:Europe/London
BEGIN:DAYLIGHT
TZOFFSETFROM:+0000
TZOFFSETTO:+0100
TZNAME:BST
DTSTART:20250330T010000
END:DAYLIGHT
BEGIN:STANDARD
TZOFFSETFROM:+0100
TZOFFSETTO:+0000
TZNAME:GMT
DTSTART:20251026T010000
END:STANDARD
BEGIN:DAYLIGHT
TZOFFSETFROM:+0000
TZOFFSETTO:+0100
TZNAME:BST
DTSTART:20260329T010000
END:DAYLIGHT
BEGIN:STANDARD
TZOFFSETFROM:+0100
TZOFFSETTO:+0000
TZNAME:GMT
DTSTART:20261025T010000
END:STANDARD
BEGIN:DAYLIGHT
TZOFFSETFROM:+0000
TZOFFSETTO:+0100
TZNAME:BST
DTSTART:20270328T010000
END:DAYLIGHT
BEGIN:STANDARD
TZOFFSETFROM:+0100
TZOFFSETTO:+0000
TZNAME:GMT
DTSTART:20271031T010000
END:STANDARD
BEGIN:DAYLIGHT
TZOFFSETFROM:+0000
TZOFFSETTO:+0100
TZNAME:BST
DTSTART:20280326T010000
END:DAYLIGHT
BEGIN:STANDARD
TZOFFSETFROM:+0100
TZOFFSETTO:+0000
TZNAME:GMT
DTSTART:20281029T010000
END:STANDARD
END:VTIMEZONE
BEGIN:VEVENT
DTSTART;TZID=Europe/London:20260426T130000
DTEND;TZID=Europe/London:20260426T170000
DTSTAMP:20260425T090826
CREATED:20251023T162512Z
LAST-MODIFIED:20251023T162512Z
UID:52185-1777208400-1777222800@www.dioceseofleeds.org.uk
SUMMARY:The Twelve Meeting
DESCRIPTION:The Twelve are the Youth Leadership Team for the Diocese of Leeds made up of young people from parishes across the Diocese. \nTheir key roles are to: \n\nGive voice to young people\nCollaborate with Bishop Marcus\nContribute to key events in the Diocese\n\nThey continue to meet\, move forward their priorities and develop their leadership/communication skills.
URL:https://www.dioceseofleeds.org.uk/youth/event/the-twelve-meeting-9/
CATEGORIES:Youth
ATTACH;FMTTYPE=image/png:https://www.dioceseofleeds.org.uk/youth/wp-content/uploads/2025/02/The-12-Logo-Final-Black-NB-Rectangle-1.png
END:VEVENT
BEGIN:VEVENT
DTSTART;TZID=Europe/London:20260506T173000
DTEND;TZID=Europe/London:20260506T193000
DTSTAMP:20260425T090826
CREATED:20251023T160954Z
LAST-MODIFIED:20260227T145433Z
UID:52169-1778088600-1778095800@www.dioceseofleeds.org.uk
SUMMARY:Revelation - Service
DESCRIPTION:Revelation is our monthly Youth Event for young people Y8-13 that takes place at Hinsley Hall. Arrivals from 5pm. \nYoung people from across the Diocese gather together for an evening of games\, prayer\, music\, discussion and much more as we take on different themes to challenge ourselves and each other on our journey of faith. \nThis month we will be focusing on the theme of ‘Service’. \nIf you’re interested in coming along\, email us at youth@dioceseofleeds.org.uk
URL:https://www.dioceseofleeds.org.uk/youth/event/revelation-service/
LOCATION:Hinsley Hall\, 62 Headingley Lane\, Leeds\, West Yorkshire\, LS6 2BX\, United Kingdom
CATEGORIES:Youth
ATTACH;FMTTYPE=image/png:https://www.dioceseofleeds.org.uk/youth/wp-content/uploads/2025/10/Revelation-May-2026-1.png
END:VEVENT
BEGIN:VEVENT
DTSTART;VALUE=DATE:20260519
DTEND;VALUE=DATE:20260520
DTSTAMP:20260425T090826
CREATED:20251105T123302Z
LAST-MODIFIED:20251105T123302Z
UID:52208-1779148800-1779235199@www.dioceseofleeds.org.uk
SUMMARY:Lay Chaplains' Meeting
DESCRIPTION:An opportunity for CPD\, resource sharing and networking for the School Lay Chaplains and Chaplaincy Leaders in the Diocese of Leeds.
URL:https://www.dioceseofleeds.org.uk/youth/event/lay-chaplains-meeting-5/
CATEGORIES:Youth
END:VEVENT
BEGIN:VEVENT
DTSTART;TZID=Europe/London:20260524T130000
DTEND;TZID=Europe/London:20260524T170000
DTSTAMP:20260425T090826
CREATED:20251023T162623Z
LAST-MODIFIED:20251023T162623Z
UID:52187-1779627600-1779642000@www.dioceseofleeds.org.uk
SUMMARY:The Twelve Meeting
DESCRIPTION:The Twelve are the Youth Leadership Team for the Diocese of Leeds made up of young people from parishes across the Diocese. \nTheir key roles are to: \n\nGive voice to young people\nCollaborate with Bishop Marcus\nContribute to key events in the Diocese\n\nThey continue to meet\, move forward their priorities and develop their leadership/communication skills.
URL:https://www.dioceseofleeds.org.uk/youth/event/the-twelve-meeting-10/
CATEGORIES:Youth
ATTACH;FMTTYPE=image/png:https://www.dioceseofleeds.org.uk/youth/wp-content/uploads/2025/02/The-12-Logo-Final-Black-NB-Rectangle-1.png
END:VEVENT
BEGIN:VEVENT
DTSTART;TZID=Europe/London:20260603T173000
DTEND;TZID=Europe/London:20260603T193000
DTSTAMP:20260425T090827
CREATED:20251023T161129Z
LAST-MODIFIED:20260128T113837Z
UID:52173-1780507800-1780515000@www.dioceseofleeds.org.uk
SUMMARY:Revelation - Thanksgiving
DESCRIPTION:Revelation is our monthly Youth Event for young people Y8-13 that takes place at Hinsley Hall. Arrivals from 5pm. \nYoung people from across the Diocese gather together for an evening of games\, prayer\, music\, discussion and much more as we take on different themes to challenge ourselves and each other on our journey of faith. \nThis month we will be focusing on the theme of ‘Thanksgiving’. \nIf you’re interested in coming along\, email us at youth@dioceseofleeds.org.uk
URL:https://www.dioceseofleeds.org.uk/youth/event/revelation-thanksgiving-2/
LOCATION:Hinsley Hall\, 62 Headingley Lane\, Leeds\, West Yorkshire\, LS6 2BX\, United Kingdom
CATEGORIES:Youth
ATTACH;FMTTYPE=image/png:https://www.dioceseofleeds.org.uk/youth/wp-content/uploads/2025/10/Revelation-June-2026.png
END:VEVENT
BEGIN:VEVENT
DTSTART;TZID=Europe/London:20260620T110000
DTEND;TZID=Europe/London:20260620T160000
DTSTAMP:20260425T090827
CREATED:20251023T162709Z
LAST-MODIFIED:20251023T162709Z
UID:52189-1781953200-1781971200@www.dioceseofleeds.org.uk
SUMMARY:The Twelve Meeting
DESCRIPTION:The Twelve are the Youth Leadership Team for the Diocese of Leeds made up of young people from parishes across the Diocese. \nTheir key roles are to: \n\nGive voice to young people\nCollaborate with Bishop Marcus\nContribute to key events in the Diocese\n\nThey continue to meet\, move forward their priorities and develop their leadership/communication skills.
URL:https://www.dioceseofleeds.org.uk/youth/event/the-twelve-meeting-11/
CATEGORIES:Youth
ATTACH;FMTTYPE=image/png:https://www.dioceseofleeds.org.uk/youth/wp-content/uploads/2025/02/The-12-Logo-Final-Black-NB-Rectangle-1.png
END:VEVENT
BEGIN:VEVENT
DTSTART;VALUE=DATE:20260623
DTEND;VALUE=DATE:20260624
DTSTAMP:20260425T090827
CREATED:20251205T115154Z
LAST-MODIFIED:20251205T115154Z
UID:52258-1782172800-1782259199@www.dioceseofleeds.org.uk
SUMMARY:Lourdes 2026 Pre-departure Day
DESCRIPTION:A chance for all of this year’s Lourdes pilgrims travelling as part of the Youth Section to come together for a day of fun\, prayer and opportunity to get to know each other ahead of what promises to be an incredible week in Lourdes!
URL:https://www.dioceseofleeds.org.uk/youth/event/lourdes-2026-pre-departure-day/
CATEGORIES:Youth
ATTACH;FMTTYPE=image/jpeg:https://www.dioceseofleeds.org.uk/youth/wp-content/uploads/2025/11/Youth-Leeds-20x32-Alba-scaled.jpg
END:VEVENT
BEGIN:VEVENT
DTSTART;VALUE=DATE:20260702
DTEND;VALUE=DATE:20260711
DTSTAMP:20260425T090827
CREATED:20251205T114520Z
LAST-MODIFIED:20251205T114520Z
UID:52253-1782950400-1783727999@www.dioceseofleeds.org.uk
SUMMARY:Diocese of Leeds Lourdes Pilgrimage
DESCRIPTION:Join 100’s of pilgrims from across the Diocese of Leeds on pilgrimage to where Mary appeared to Bernadette! \nThis year’s pilgrimage to Lourdes will take place from 2nd – 10th July 2026 and promises to be a beautiful experience of prayer\, service\, fellowship and friendship!
URL:https://www.dioceseofleeds.org.uk/youth/event/diocese-of-leeds-lourdes-pilgrimage-2/
LOCATION:Lourdes\, Lourdes\, France
CATEGORIES:Youth
ATTACH;FMTTYPE=image/jpeg:https://www.dioceseofleeds.org.uk/youth/wp-content/uploads/2025/11/Youth-Leeds-20x32-Alba-scaled.jpg
END:VEVENT
BEGIN:VEVENT
DTSTART;VALUE=DATE:20260720
DTEND;VALUE=DATE:20260725
DTSTAMP:20260425T090827
CREATED:20251205T114823Z
LAST-MODIFIED:20251205T114823Z
UID:52256-1784505600-1784937599@www.dioceseofleeds.org.uk
SUMMARY:Through the Wardrobe Summer Camp
DESCRIPTION:Through the Wardrobe is the Leeds Diocesan Youth Service’s summer camp! \nBased on the Narnian Virtues\, the camp offers young people in Y7\, as part of their school group\, a holiday and the opportunity to come together for a week of fun activities\, challenges and the chance to build faith\, character\, confidence and self esteem.
URL:https://www.dioceseofleeds.org.uk/youth/event/through-the-wardrobe-summer-camp/
CATEGORIES:Youth
ATTACH;FMTTYPE=image/jpeg:https://www.dioceseofleeds.org.uk/youth/wp-content/uploads/2025/11/FXOY8002.jpg
END:VEVENT
BEGIN:VEVENT
DTSTART;VALUE=DATE:20260915
DTEND;VALUE=DATE:20260916
DTSTAMP:20260425T090827
CREATED:20251205T115304Z
LAST-MODIFIED:20251205T115304Z
UID:52260-1789430400-1789516799@www.dioceseofleeds.org.uk
SUMMARY:Lourdes 2026 Reunion
DESCRIPTION:An opportunity for this year’s Lourdes Youth Section to reunite for a day of fun\, fellowship\, sharing\, prayer and reminiscing!
URL:https://www.dioceseofleeds.org.uk/youth/event/lourdes-2026-reunion/
CATEGORIES:Youth
ATTACH;FMTTYPE=image/jpeg:https://www.dioceseofleeds.org.uk/youth/wp-content/uploads/2025/11/Youth-Leeds-20x32-Alba-scaled.jpg
END:VEVENT
BEGIN:VEVENT
DTSTART;VALUE=DATE:20270306
DTEND;VALUE=DATE:20270307
DTSTAMP:20260425T090827
CREATED:20251205T115522Z
LAST-MODIFIED:20251205T115522Z
UID:52262-1804291200-1804377599@www.dioceseofleeds.org.uk
SUMMARY:FLAME 2027
DESCRIPTION:FLAME – the biggest Catholic youth event in England and Wales is back! \nJoin thousands of young people at Wembley Arena on Saturday 6th March 2027 for a day full of fun\, prayer\, worship and input from great speakers! \nMore information to follow!
URL:https://www.dioceseofleeds.org.uk/youth/event/flame-2027/
CATEGORIES:Youth
ATTACH;FMTTYPE=image/png:https://www.dioceseofleeds.org.uk/youth/wp-content/uploads/2025/12/Flame-Logo.png
END:VEVENT
END:VCALENDAR