BEGIN:VCALENDAR
VERSION:2.0
PRODID:-//Diocese of Leeds - ECPv6.15.17//NONSGML v1.0//EN
CALSCALE:GREGORIAN
METHOD:PUBLISH
X-ORIGINAL-URL:https://www.dioceseofleeds.org.uk
X-WR-CALDESC:Events for Diocese of Leeds
REFRESH-INTERVAL;VALUE=DURATION:PT1H
X-Robots-Tag:noindex
X-PUBLISHED-TTL:PT1H
BEGIN:VTIMEZONE
TZID:UTC
BEGIN:STANDARD
TZOFFSETFROM:+0000
TZOFFSETTO:+0000
TZNAME:UTC
DTSTART:20250101T000000
END:STANDARD
END:VTIMEZONE
BEGIN:VEVENT
DTSTART;TZID=UTC:20260218T080000
DTEND;TZID=UTC:20260403T150000
DTSTAMP:20260418T104739
CREATED:20260213T100028Z
LAST-MODIFIED:20260213T100042Z
UID:10001029-1771401600-1775228400@www.dioceseofleeds.org.uk
SUMMARY:Lenten Journey with the Popes!
DESCRIPTION:Liam Kelly is a Trustee of the Diocese of Leeds. He works at Ampleforth Abbey and has written a number of books\, including ‘Lent in 50 Moments’\, a series of reflections from Ash Wednesday to Easter Wednesday. \nEvery Sunday and Wednesday in Lent and every day in Holy Week\, join Liam’s series of meditations and questions for reflections\, linked to the papal Messages for Lent published in recent years\, to help us prepare for the joy of the Resurrection. \nFollow the link to join this Lenten journey with the Popes: \nhttps://hozana.org/en/community/12849-journey-through-lent-with-the-popes/landing?course=direct&origin=community-share&source=Share%2520Link&uik=1811976r6363d8eaa48493.49847803&utm_source=share&utm_medium=share&utm_campaign=Community_12849 \nWhy Join? \nThe season of Lent is about returning to God with all our heart\, stripping ourselves of worldly trappings and returning to the heart\, returning to what is essential. In his 6th century Rule\, Saint Benedict begins his chapter on Lent with the words: “The life of the monk ought to be a continuous Lent” – to which you might add: ‘Well\, I’m glad I’m not a monk’\, or ‘And I thought 40 days was bad enough!’. But if Lent is truly a time for renewal\, then in some ways it should be Lent every day\, since each day we are called to renew our trust and hope in the Lord\, the giver of life. This Lent is a time for us to renew our faith and continue on our pilgrim journey towards the celebration of the Resurrection.
URL:https://www.dioceseofleeds.org.uk/event/lenten-journey-with-the-popes/
LOCATION:online only
END:VEVENT
BEGIN:VEVENT
DTSTART;TZID=UTC:20260329T080000
DTEND;TZID=UTC:20260405T000100
DTSTAMP:20260418T104739
CREATED:20260330T075956Z
LAST-MODIFIED:20260330T080051Z
UID:10001042-1774771200-1775347260@www.dioceseofleeds.org.uk
SUMMARY:Holy Week in the Holy Land - with Friends of the Holy Land!
DESCRIPTION:Journey with Friends of the Holy Land in the footsteps of Jesus this Holy Week! \nSadly\, the procession and Holy Week public worship has been cancelled due to the security situation. \nTherefore\, to inspire our spiritual reflections throughout Holy Week\, Friends of the Holy Land has brought together a series of videos filmed in the Holy Land to help us to explore the places\, as they appear today\, that Jesus would have journeyed through on His way to the Cross. \nThe first video\, from Saxum International Foundation\, allows us to follow the route from the Mount of Olives into Jerusalem on Palm Sunday \nAll the videos will be available on the Friends of the Holy Land website
URL:https://www.dioceseofleeds.org.uk/event/holy-week-in-the-holy-land-with-friends-of-the-holy-land/
LOCATION:online only
END:VEVENT
BEGIN:VEVENT
DTSTART;TZID=UTC:20260401T110000
DTEND;TZID=UTC:20260401T123000
DTSTAMP:20260418T104739
CREATED:20251223T150553Z
LAST-MODIFIED:20251223T150605Z
UID:10000997-1775041200-1775046600@www.dioceseofleeds.org.uk
SUMMARY:Chrism Mass
DESCRIPTION:The Bishop will celebrate Mass to bless the oils of Chrism.
URL:https://www.dioceseofleeds.org.uk/event/chrism-mass/
LOCATION:Leeds Cathedral\, Great George Street\, Leeds\, LS2 8BE\, United Kingdom
END:VEVENT
END:VCALENDAR